BEGIN:VCALENDAR
VERSION:2.0
PRODID:-//Get Kids Outside - ECPv6.15.20//NONSGML v1.0//EN
CALSCALE:GREGORIAN
METHOD:PUBLISH
X-WR-CALNAME:Get Kids Outside
X-ORIGINAL-URL:https://www.getkidsoutsidewi.com
X-WR-CALDESC:Events for Get Kids Outside
REFRESH-INTERVAL;VALUE=DURATION:PT1H
X-Robots-Tag:noindex
X-PUBLISHED-TTL:PT1H
BEGIN:VTIMEZONE
TZID:UTC
BEGIN:STANDARD
TZOFFSETFROM:+0000
TZOFFSETTO:+0000
TZNAME:UTC
DTSTART:20250101T000000
END:STANDARD
END:VTIMEZONE
BEGIN:VEVENT
DTSTART;TZID=UTC:20260711T193000
DTEND;TZID=UTC:20260711T213000
DTSTAMP:20260423T211612
CREATED:20260416T140158Z
LAST-MODIFIED:20260416T141914Z
UID:51155-1783798200-1783805400@www.getkidsoutsidewi.com
SUMMARY:11th Annual Community Firefly Hike 2026
DESCRIPTION:Experience the magic of fireflies on a hot summer night at Indian Lake County Park. We’ll learn what makes fireflies light up and enjoy cooking marshmallows over a fire. There will also be exhibits about the insects and animals at the park and kids can make a craft. Then we’ll take a short walk to see the fireflies and catch a few so you can see them up close. We will have bug spray. Bring your own jar with a lid with holes if you have one. \nRegistration \n 
URL:https://www.getkidsoutsidewi.com/event/11th-annual-community-firefly-hike-2026/
LOCATION:Indian Lake County Park\, 8183 State Highway 19\, Cross Plains\, WI\, 53528\, United States
CATEGORIES:2026 Programs
ATTACH;FMTTYPE=image/jpeg:https://www.getkidsoutsidewi.com/wp-content/uploads/2025/03/DA221E04-5ADC-4082-80E2-3E6C5E2F4414-768x513-1.jpeg
ORGANIZER;CN="Get Kids Outside":MAILTO:getkidsoutside@gmail.com
END:VEVENT
END:VCALENDAR