BEGIN:VCALENDAR
VERSION:2.0
PRODID:-//Get Kids Outside - ECPv6.15.20//NONSGML v1.0//EN
CALSCALE:GREGORIAN
METHOD:PUBLISH
X-ORIGINAL-URL:https://www.getkidsoutsidewi.com
X-WR-CALDESC:Events for Get Kids Outside
REFRESH-INTERVAL;VALUE=DURATION:PT1H
X-Robots-Tag:noindex
X-PUBLISHED-TTL:PT1H
BEGIN:VTIMEZONE
TZID:UTC
BEGIN:STANDARD
TZOFFSETFROM:+0000
TZOFFSETTO:+0000
TZNAME:UTC
DTSTART:20230101T000000
END:STANDARD
END:VTIMEZONE
BEGIN:VEVENT
DTSTART;TZID=UTC:20251011T130000
DTEND;TZID=UTC:20251011T160000
DTSTAMP:20260423T195149
CREATED:20231117T151433Z
LAST-MODIFIED:20250315T140046Z
UID:51090-1760187600-1760198400@www.getkidsoutsidewi.com
SUMMARY:5th Annual Fall Wonder and Adventure Outing
DESCRIPTION:Kids learn about mammals at the Fall Outing.\nGet Kids Outside invites you this fall event at Indian Lake County Park \n• Hike the beautiful trails at the park.  \n• Cook s’mores over a fire. \n• Learn about the animals at the park. \n• Engage in educational activities. \nThis event is designed for school age through middle school-aged children and their families especially children and families who attend community centers and other non-profit programs and schools in Dane County. The event strives to have all children be present to the wonder and awe of nature and for them to see themselves as powerful. It is sponsored by Get Kids Outside\, BIPOC Birding Club of Wisconsin\, Ice Age Trail Alliance\, the Department of Natural Resources and Dane County Parks.  \nThis event is free of charge. \nRegistration
URL:https://www.getkidsoutsidewi.com/event/4th-annual-fall-wonder-and-adventure-outing/
LOCATION:Indian Lake County Park\, 8183 State Highway 19\, Cross Plains\, WI\, 53528\, United States
CATEGORIES:2025 Programs
ATTACH;FMTTYPE=image/jpeg:https://www.getkidsoutsidewi.com/wp-content/uploads/2022/04/D89CE771-AAC5-438F-9D1B-228ACED04F0C_1_105_c-1.jpeg
ORGANIZER;CN="Get Kids Outside":MAILTO:getkidsoutside@gmail.com
END:VEVENT
BEGIN:VEVENT
DTSTART;TZID=UTC:20250719T193000
DTEND;TZID=UTC:20250719T213000
DTSTAMP:20260423T195149
CREATED:20250313T171016Z
LAST-MODIFIED:20250313T174807Z
UID:51142-1752953400-1752960600@www.getkidsoutsidewi.com
SUMMARY:10th Annual Community Firefly Hike
DESCRIPTION:Experience the magic of fireflies on a hot summer night at Indian Lake County Park. We’ll learn what makes fireflies light up and enjoy cooking marshmallows over a fire. There will also be exhibits about the insects and animals at the park and kids can make a craft. Then we’ll take a short walk to see the fireflies and catch a few so you can see them up close. We will have bug spray. Bring your own jar with a lid with holes if you have one. \nRegistration \n 
URL:https://www.getkidsoutsidewi.com/event/10th-annual-community-firefly-hike/
LOCATION:Indian Lake County Park\, 8183 State Highway 19\, Cross Plains\, WI\, 53528\, United States
CATEGORIES:2025 Programs,Hike
ATTACH;FMTTYPE=image/jpeg:https://www.getkidsoutsidewi.com/wp-content/uploads/2025/03/DA221E04-5ADC-4082-80E2-3E6C5E2F4414-768x513-1.jpeg
ORGANIZER;CN="Get Kids Outside":MAILTO:getkidsoutside@gmail.com
END:VEVENT
BEGIN:VEVENT
DTSTART;TZID=UTC:20250531T090000
DTEND;TZID=UTC:20250531T120000
DTSTAMP:20260423T195149
CREATED:20231117T142705Z
LAST-MODIFIED:20250313T161633Z
UID:51079-1748682000-1748692800@www.getkidsoutsidewi.com
SUMMARY:Kids Free Fishing Day
DESCRIPTION:Learn to fish and get a free fishing pole (for first 300 kids)!  This is an annual event sponsored by the Yahara Fishing Club. Kids will learn how to fish and get a free hot dog lunch. \nRegistration \n 
URL:https://www.getkidsoutsidewi.com/event/kids-free-fishing-day-2/
LOCATION:Warner Park Community Center\, 2930 N Sherman Ave\, Madison\, WI\, 53704\, United States
CATEGORIES:2025 Programs
ATTACH;FMTTYPE=image/jpeg:https://www.getkidsoutsidewi.com/wp-content/uploads/2022/12/4dea7b5fe31e0.image_.jpg
ORGANIZER;CN="Get Kids Outside":MAILTO:getkidsoutside@gmail.com
END:VEVENT
BEGIN:VEVENT
DTSTART;TZID=UTC:20250426T100000
DTEND;TZID=UTC:20250426T113000
DTSTAMP:20260423T195149
CREATED:20250313T010010Z
LAST-MODIFIED:20250325T140154Z
UID:51134-1745661600-1745667000@www.getkidsoutsidewi.com
SUMMARY:Wildflower and Bird Adventure
DESCRIPTION:Let’s look for spring flowers and birds at the Aldo Leopold Nature Center in Monona. We will end our hike with a fire and s’mores. Free. \nRegistration
URL:https://www.getkidsoutsidewi.com/event/wildflower-and-bird-adventure/
LOCATION:aldo leopold nature center\, 330 Femrite Drive\, Monona\, WI\, 53716
CATEGORIES:2025 Programs
ATTACH;FMTTYPE=image/jpeg:https://www.getkidsoutsidewi.com/wp-content/uploads/2022/12/PCD3447_IMG0027.jpg
ORGANIZER;CN="Get Kids Outside":MAILTO:getkidsoutside@gmail.com
END:VEVENT
BEGIN:VEVENT
DTSTART;TZID=UTC:20250221T130000
DTEND;TZID=UTC:20250221T143000
DTSTAMP:20260423T195149
CREATED:20240203T002851Z
LAST-MODIFIED:20240924T181446Z
UID:51093-1740142800-1740148200@www.getkidsoutsidewi.com
SUMMARY:Winter Wonderland Learn to Snowshoe
DESCRIPTION:Winter is a great time to get outside especially when there is a warm fire\, hot cocoa to drink and snacks to eat! This event attracts 30 people from Dane County. Kids and families learn how to snowshoe and enjoy a snack around a warm fire. Meet at the Rainbow Shelter. If there is no snow\, we will take a hike through the park instead. \nRegistration
URL:https://www.getkidsoutsidewi.com/event/winter-wonderland-learn-to-snowshoe/
LOCATION:Warner Park Community Center\, 2930 N Sherman Ave\, Madison\, WI\, 53704\, United States
CATEGORIES:2025 Programs,Hike
ATTACH;FMTTYPE=image/jpeg:https://www.getkidsoutsidewi.com/wp-content/uploads/2022/04/sledding.jpg
END:VEVENT
BEGIN:VEVENT
DTSTART;TZID=UTC:20240127T090000
DTEND;TZID=UTC:20240127T120000
DTSTAMP:20260423T195149
CREATED:20250125T090018Z
LAST-MODIFIED:20240924T191230Z
UID:51072-1706346000-1706356800@www.getkidsoutsidewi.com
SUMMARY:Learn to Ice Fish
DESCRIPTION:Learn to ice fish at this annual event sponsored by the Yahara Fishing Club. Kids receive a free fishing pole and gear to fish through the ice. Holes are pre-drilled for you and volunteers will help you learn to fish. Afterwards\, enjoy hot cocoa and a hotdog. \n 
URL:https://www.getkidsoutsidewi.com/event/learn-to-ice-fish-2/
LOCATION:Brittingham Park\, 829 W. Washington Ave.\, Madison\, WI
CATEGORIES:2025 Programs
ATTACH;FMTTYPE=image/jpeg:https://www.getkidsoutsidewi.com/wp-content/uploads/2023/02/00B905C4-4B7F-483E-BC24-B16651D1C9B2_1_105_c-e1676924041148.jpeg
ORGANIZER;CN="Get Kids Outside":MAILTO:getkidsoutside@gmail.com
END:VEVENT
END:VCALENDAR