BEGIN:VCALENDAR
VERSION:2.0
PRODID:-//Get Kids Outside - ECPv6.15.20//NONSGML v1.0//EN
CALSCALE:GREGORIAN
METHOD:PUBLISH
X-ORIGINAL-URL:https://www.getkidsoutsidewi.com
X-WR-CALDESC:Events for Get Kids Outside
REFRESH-INTERVAL;VALUE=DURATION:PT1H
X-Robots-Tag:noindex
X-PUBLISHED-TTL:PT1H
BEGIN:VTIMEZONE
TZID:UTC
BEGIN:STANDARD
TZOFFSETFROM:+0000
TZOFFSETTO:+0000
TZNAME:UTC
DTSTART:20210101T000000
END:STANDARD
END:VTIMEZONE
BEGIN:VEVENT
DTSTART;TZID=UTC:20231028T130000
DTEND;TZID=UTC:20231028T160000
DTSTAMP:20260423T195150
CREATED:20221102T173139Z
LAST-MODIFIED:20230720T200332Z
UID:50804-1698498000-1698508800@www.getkidsoutsidewi.com
SUMMARY:3rd Annual Fall Wonder and Adventure Outing
DESCRIPTION:Kids learn about mammals at the Fall Outing.\nGet Kids Outside invites you this fall event at Indian Lake County Park \n• Hike the beautiful trails at the park.  \n• Cook s’mores over a fire. \n• Learn about the animals at the park. \n• Engage in educational activities. \nThis event is designed for school age through middle school-aged children and their families especially children and families who attend community centers and other non-profit programs and schools in Dane County. The event strives to have all children be present to the wonder and awe of nature and for them to see themselves as powerful. It is sponsored by Get Kids Outside\, BIPOC Birding Club of Wisconsin\, Ice Age Trail Alliance\, the Department of Natural Resources and Dane County Parks.  \nThis event is free of charge.  \nFor more information about this event\, contact Diane Schwartz\, getkidsoutisde@gmail.com\, 608-358-8314. \nRegister Here
URL:https://www.getkidsoutsidewi.com/event/3rd-annual-fall-wonder-and-adventure-outing/
LOCATION:Indian Lake County Park\, 8183 State Highway 19\, Cross Plains\, WI\, 53528\, United States
CATEGORIES:2023 Programs
ATTACH;FMTTYPE=image/jpeg:https://www.getkidsoutsidewi.com/wp-content/uploads/2022/04/D89CE771-AAC5-438F-9D1B-228ACED04F0C_1_105_c-1.jpeg
ORGANIZER;CN="Get Kids Outside":MAILTO:getkidsoutside@gmail.com
END:VEVENT
BEGIN:VEVENT
DTSTART;TZID=UTC:20230708T193000
DTEND;TZID=UTC:20230708T220000
DTSTAMP:20260423T195150
CREATED:20220823T213239Z
LAST-MODIFIED:20230228T160926Z
UID:50754-1688844600-1688853600@www.getkidsoutsidewi.com
SUMMARY:8th Annual Community Firefly Hike
DESCRIPTION:Experience the magic of fireflies on a hot summer night at Indian Lake County Park. We’ll learn what makes fireflies light up and enjoy cooking marshmallows over a fire. There will also be exhibits about the insects and animals at the park and kids can make a craft. Then we’ll take a short walk to see the fireflies and catch a few so you can see them up close. We will have bug spray. Bring your own jar with a lid with holes if you have one. \nRegistration\nFlyer
URL:https://www.getkidsoutsidewi.com/event/8th-annual-community-firefly-hike/
LOCATION:Indian Lake County Park\, 8183 State Highway 19\, Cross Plains\, WI\, 53528\, United States
CATEGORIES:2023 Programs
ATTACH;FMTTYPE=image/jpeg:https://www.getkidsoutsidewi.com/wp-content/uploads/2022/08/DA221E04-5ADC-4082-80E2-3E6C5E2F4414-scaled.jpeg
ORGANIZER;CN="Get Kids Outside":MAILTO:getkidsoutside@gmail.com
END:VEVENT
BEGIN:VEVENT
DTSTART;TZID=UTC:20230701T193000
DTEND;TZID=UTC:20230701T220000
DTSTAMP:20260423T195150
CREATED:20230228T152219Z
LAST-MODIFIED:20230228T161023Z
UID:50945-1688239800-1688248800@www.getkidsoutsidewi.com
SUMMARY:Whippoorwill Hike for Kids
DESCRIPTION:Getting outside at night is a rare treat\, especially for kids. Here’s a great opportunity to stay up late during the summer to experience nature at its magical best at night. We will hike up a hill to Ferry Bluff where we will get a beautiful view of the Wisconsin River and sit on top of an ancient sandstone bluff while we wait for the sun to set and the Whippoorwills to start singing. The Whippoorwill is a bird the size of a robin that has seen a decline in recent years. Ferry Bluff is one of the few places where they can be heard on a consistent basis. We will also likely see other birds like pelicans and turkey vultures hovering beneath the bluffs. There is a fireworks display afterwards that you don’t want to miss. This hike is suitable for children 10 years old and up. You must be able to hike up a short and steep hill of about 1/4 mile. Flashlights will be provided for the trip down as it will be dark. Also\, a light snack will be provided. Ferry Bluff is located about 30 miles west of Madison just west of Sauk City. Bring a water bottle and something to sit on like a camp chair if you have one. \nRegistration \nFlyer
URL:https://www.getkidsoutsidewi.com/event/whippoorwill-hike-for-kids/
LOCATION:Ferry Bluff State Natural Area\, E9974 WI-60 Trunk\, Sauk City\, Wisconsin\, 53583
CATEGORIES:2023 Programs
ATTACH;FMTTYPE=image/jpeg:https://www.getkidsoutsidewi.com/wp-content/uploads/2022/04/ferry-bluff.jpg
ORGANIZER;CN="Get Kids Outside":MAILTO:getkidsoutside@gmail.com
END:VEVENT
BEGIN:VEVENT
DTSTART;TZID=UTC:20230603T090000
DTEND;TZID=UTC:20230603T120000
DTSTAMP:20260423T195150
CREATED:20221222T211836Z
LAST-MODIFIED:20230228T151340Z
UID:50869-1685782800-1685793600@www.getkidsoutsidewi.com
SUMMARY:Kids Free Fishing Day
DESCRIPTION:Learn to fish and get a free fishing pole and tackle box (for first 300 kids)!  This is an annual event sponsored by the Yahara Fishing Club. Kids will learn how to fish and get a free hot dog lunch. \nRegistration \n 
URL:https://www.getkidsoutsidewi.com/event/kids-free-fishing-day/
LOCATION:Warner Park Community Center\, 2930 N Sherman Ave\, Madison\, WI\, 53704\, United States
CATEGORIES:2023 Programs
ATTACH;FMTTYPE=image/jpeg:https://www.getkidsoutsidewi.com/wp-content/uploads/2022/12/4dea7b5fe31e0.image_.jpg
ORGANIZER;CN="Get Kids Outside":MAILTO:getkidsoutside@gmail.com
END:VEVENT
BEGIN:VEVENT
DTSTART;TZID=UTC:20230408T130000
DTEND;TZID=UTC:20230408T150000
DTSTAMP:20260423T195150
CREATED:20221222T204953Z
LAST-MODIFIED:20221222T210350Z
UID:50859-1680958800-1680966000@www.getkidsoutsidewi.com
SUMMARY:Spring Wildflowers and Bird Hike for Kids
DESCRIPTION:It’s spring and time for spring flowers to pop up. One of the first flowers of spring is blood root and we will learn about this pretty little flower and then take a short hike looking for spring birds. Afterwards\, the kids will enjoy a warm farm\, a beverage and a snack. Join us for a fun adventure at the Aldo Leopold Nature Center. \nClick here to register for this free event.
URL:https://www.getkidsoutsidewi.com/event/spring-wildflowers-and-bird-hike-for-kids/
LOCATION:Aldo Leopold Center\, 330 Femrite Drive\, Monona\, WI\, 53716
CATEGORIES:2023 Programs
ATTACH;FMTTYPE=image/jpeg:https://www.getkidsoutsidewi.com/wp-content/uploads/2022/12/PCD3447_IMG0027.jpg
ORGANIZER;CN="Get Kids Outside":MAILTO:getkidsoutside@gmail.com
END:VEVENT
BEGIN:VEVENT
DTSTART;TZID=UTC:20230128T090000
DTEND;TZID=UTC:20230128T120000
DTSTAMP:20260423T195150
CREATED:20221222T215230Z
LAST-MODIFIED:20230110T212012Z
UID:50873-1674896400-1674907200@www.getkidsoutsidewi.com
SUMMARY:Learn to Ice Fish
DESCRIPTION:Learn to ice fish at this fun and free event. Kids will receive a free fishing pole and bait plus a free lunch. This event is sponsored by the Yahara Fishing Club. \nRegistration
URL:https://www.getkidsoutsidewi.com/event/learn-to-ice-fish/
LOCATION:Brittingham Park\, 829 W. Washington Ave.\, Madison\, WI
CATEGORIES:2023 Programs
ATTACH;FMTTYPE=image/jpeg:https://www.getkidsoutsidewi.com/wp-content/uploads/2022/12/download-19.jpg
END:VEVENT
BEGIN:VEVENT
DTSTART;TZID=UTC:20221029T130000
DTEND;TZID=UTC:20221029T160000
DTSTAMP:20260423T195150
CREATED:20220413T211825Z
LAST-MODIFIED:20221114T185953Z
UID:50546-1667048400-1667059200@www.getkidsoutsidewi.com
SUMMARY:Fall Outing at Indian Lake County Park in Dane County
DESCRIPTION:Join us for our second annual fall outing at Indian Lake County Park. This event attracts 30 people from Dane County. Kids and families learn about nature\, take a hike and enjoy s’mores and a fire. \nRegistration \n 
URL:https://www.getkidsoutsidewi.com/event/fall-outing-at-indian-lake-county-park-in-dane-county/
LOCATION:Dane County
CATEGORIES:2023 Programs
ATTACH;FMTTYPE=image/jpeg:https://www.getkidsoutsidewi.com/wp-content/uploads/2022/04/D89CE771-AAC5-438F-9D1B-228ACED04F0C_1_105_c-1.jpeg
END:VEVENT
END:VCALENDAR