BEGIN:VCALENDAR
VERSION:2.0
PRODID:-//Get Kids Outside - ECPv6.15.20//NONSGML v1.0//EN
CALSCALE:GREGORIAN
METHOD:PUBLISH
X-ORIGINAL-URL:https://www.getkidsoutsidewi.com
X-WR-CALDESC:Events for Get Kids Outside
REFRESH-INTERVAL;VALUE=DURATION:PT1H
X-Robots-Tag:noindex
X-PUBLISHED-TTL:PT1H
BEGIN:VTIMEZONE
TZID:UTC
BEGIN:STANDARD
TZOFFSETFROM:+0000
TZOFFSETTO:+0000
TZNAME:UTC
DTSTART:20210101T000000
END:STANDARD
END:VTIMEZONE
BEGIN:VEVENT
DTSTART;TZID=UTC:20230224T130000
DTEND;TZID=UTC:20230224T150000
DTSTAMP:20260423T212213
CREATED:20220413T212621Z
LAST-MODIFIED:20221222T212120Z
UID:50549-1677243600-1677250800@www.getkidsoutsidewi.com
SUMMARY:Winter Wonderland Learn to Snowshoe
DESCRIPTION:Winter is a great time to get outside especially when there is a warm fire\, hot cocoa to drink and snacks to eat! This event attracts 30 people from Dane County. Kids and families learn how to snowshoe and enjoy a snack around a warm fire. Meet at the Rainbow Shelter. If there is no snow\, we will take a hike through the park instead. \nRegistration
URL:https://www.getkidsoutsidewi.com/event/sledding-and-snowshoeing-event-at-indian-lake-county-park-in-dane-county/
LOCATION:Warner Park Community Center\, 2930 N Sherman Ave\, Madison\, WI\, 53704\, United States
CATEGORIES:Lake
ATTACH;FMTTYPE=image/jpeg:https://www.getkidsoutsidewi.com/wp-content/uploads/2022/04/sledding.jpg
END:VEVENT
BEGIN:VEVENT
DTSTART;TZID=UTC:20220709T190000
DTEND;TZID=UTC:20220709T213000
DTSTAMP:20260423T212213
CREATED:20220413T211138Z
LAST-MODIFIED:20220418T224418Z
UID:50538-1657393200-1657402200@www.getkidsoutsidewi.com
SUMMARY:Firefly Hike at Indian Lake County Park in Dane County
DESCRIPTION:Enjoy the wonder and awe of fireflies on a hot summer night at Indian Lake County Park. This event attracts about 80 people from diverse backgrounds in the Dane County Area. It’s an educational event where kids and their families learn about fireflies\, catch them\, and enjoy a fire and s’mores. There will also be education exhibits about mammals and insects and a craft for the first 30 participants. Register early to reserve your spot. \nEvent Register: https://firefly2022.eventbrite.com\nFlyerhttps: //docs.google.com/document/d/1maEaQJVfQoE10WOQOaWZ_9Mf57T5gGUl6GHh_NAWNno/edit?usp=sharing
URL:https://www.getkidsoutsidewi.com/event/firefly-hike-at-indian-lake-county-park-in-dane-county/
LOCATION:Dane County
CATEGORIES:Lake
ATTACH;FMTTYPE=image/jpeg:https://www.getkidsoutsidewi.com/wp-content/uploads/2022/04/Snapshot-Firefly-Walk-crEricTadsen-07282016-1.jpg
END:VEVENT
END:VCALENDAR